BEGIN:VCALENDAR
VERSION:2.0
PRODID:-//Tukios.com/
BEGIN:VEVENT
UID:19dd5232-6b51-4c77-9fad-639116570f1b@www.newcomersyracuse.com
DTSTAMP:20260422T232649Z
DTSTART:20260430T220000Z
DTEND:20260501T000000Z
SUMMARY:Visitation
DESCRIPTION:
URL:https://www.newcomersyracuse.com/obituaries/bruce-weegar
LOCATION:New Comer Cremations & Funerals 705 North Main Street  Syracuse 
	NY 13212
GEO:43.1432309;-76.1281432
END:VEVENT
END:VCALENDAR