BEGIN:VCALENDAR
VERSION:2.0
PRODID:-//Tukios.com/
BEGIN:VEVENT
UID:32a75577-c6af-4384-8245-1b84185145c5@www.newcomersyracuse.com
DTSTAMP:20260425T173239Z
DTSTART:20260429T190000Z
DTEND:20260429T210000Z
SUMMARY:Visitation
DESCRIPTION:
URL:https://www.newcomersyracuse.com/obituaries/josephine-dolly-cookinham
LOCATION:New Comer Cremations & Funerals 705 North Main Street  Syracuse 
	NY 13212
GEO:43.1432309;-76.1281432
END:VEVENT
END:VCALENDAR