BEGIN:VCALENDAR
VERSION:2.0
PRODID:-//Tukios.com/
BEGIN:VEVENT
UID:5d3fe5f6-2771-4ac3-9770-cfa949f5c0a1@www.newcomersyracuse.com
DTSTAMP:20260425T173749Z
DTSTART:20260430T160000Z
DTEND:20260430T170000Z
SUMMARY:Burial
DESCRIPTION:
URL:https://www.newcomersyracuse.com/obituaries/josephine-dolly-cookinham
LOCATION: 705 North Main Street  Syracuse NY 13212
GEO:43.1432309;-76.1281432
END:VEVENT
END:VCALENDAR