BEGIN:VCALENDAR
VERSION:2.0
PRODID:-//Tukios.com/
BEGIN:VEVENT
UID:8a60bd54-2924-4e3f-896f-61f66c15b728@www.newcomersyracuse.com
DTSTAMP:20260422T000142Z
DTSTART:20260424T150000Z
DTEND:20260424T160000Z
SUMMARY:Visitation
DESCRIPTION:
URL:https://www.newcomersyracuse.com/obituaries/marilyn-hayes
LOCATION:The Greater Holy Temple Church #2 643 West Onondaga Street  
	Syracuse NY 13204
GEO:43.0379335;-76.1602583
END:VEVENT
END:VCALENDAR