BEGIN:VCALENDAR
VERSION:2.0
PRODID:-//Tukios.com/
BEGIN:VEVENT
UID:9a2a0ab2-1f43-4a4f-bfb6-792480def9e3@www.newcomersyracuse.com
DTSTAMP:20260422T000317Z
DTSTART:20260428T160000Z
DTEND:20260428T170000Z
SUMMARY:Burial
DESCRIPTION:
URL:https://www.newcomersyracuse.com/obituaries/marilyn-hayes
LOCATION:Loomis Hill Cemetery 4069 Howlett Hill Rd  Syracuse NY 13215
GEO:43.0125478;-76.2305797
END:VEVENT
END:VCALENDAR