BEGIN:VCALENDAR
VERSION:2.0
PRODID:-//Tukios.com/
BEGIN:VEVENT
UID:969ba6cc-77ee-40ac-a4c6-f508665eee14@www.newcomersyracuse.com
DTSTAMP:20260422T000045Z
DTSTART:20260424T160000Z
DTEND:20260424T170000Z
SUMMARY:Funeral Service
DESCRIPTION:
URL:https://www.newcomersyracuse.com/obituaries/marilyn-hayes
LOCATION:The Greater Holy Temple Church #2 643 West Onondaga Street  
	Syracuse NY 13204
GEO:43.0379335;-76.1602583
END:VEVENT
END:VCALENDAR