BEGIN:VCALENDAR
VERSION:2.0
PRODID:-//Tukios.com/
BEGIN:VEVENT
UID:346c3025-1ace-4685-97b5-5e52da80588b@www.newcomersyracuse.com
DTSTAMP:20260422T164028Z
DTSTART:20260523T180000Z
DTEND:20260523T210000Z
SUMMARY:Visitation
DESCRIPTION:
URL:https://www.newcomersyracuse.com/obituaries/mary-follett
LOCATION: 705 N Main St  Syracuse NY 13212
GEO:43.1432309;-76.1281432
END:VEVENT
END:VCALENDAR