BEGIN:VCALENDAR
VERSION:2.0
PRODID:-//Tukios.com/
BEGIN:VEVENT
UID:f23a81c2-a7b1-478a-808b-336d47fefed7@www.newcomersyracuse.com
DTSTAMP:20260420T183834Z
DTSTART:20260425T180000Z
DTEND:20260425T200000Z
SUMMARY:Visitation
DESCRIPTION:
URL:https://www.newcomersyracuse.com/obituaries/sherrylee-hennessy
LOCATION: 705 N Main St  Syracuse NY 13212
GEO:43.1432309;-76.1281432
END:VEVENT
END:VCALENDAR