BEGIN:VCALENDAR
VERSION:2.0
PRODID:-//Tukios.com/
BEGIN:VEVENT
UID:4bafddc1-76c6-4d6c-8248-ceaab7c0cdcb@www.newcomersyracuse.com
DTSTAMP:20260424T223715Z
DTSTART:20260428T200000Z
DTEND:20260428T220000Z
SUMMARY:Visitation
DESCRIPTION:
URL:https://www.newcomersyracuse.com/obituaries/timothy-c-morgan
LOCATION: 705 N Main St  Syracuse NY 13212
GEO:43.1432309;-76.1281432
END:VEVENT
END:VCALENDAR